BEGIN:VCALENDAR
VERSION:2.0
PRODID:-//Ancient Order of Hibernians - ECPv6.15.20//NONSGML v1.0//EN
CALSCALE:GREGORIAN
METHOD:PUBLISH
X-WR-CALNAME:Ancient Order of Hibernians
X-ORIGINAL-URL:https://aohindy.com
X-WR-CALDESC:Events for Ancient Order of Hibernians
REFRESH-INTERVAL;VALUE=DURATION:PT1H
X-Robots-Tag:noindex
X-PUBLISHED-TTL:PT1H
BEGIN:VTIMEZONE
TZID:America/Indiana/Indianapolis
BEGIN:DAYLIGHT
TZOFFSETFROM:-0500
TZOFFSETTO:-0400
TZNAME:EDT
DTSTART:20230312T070000
END:DAYLIGHT
BEGIN:STANDARD
TZOFFSETFROM:-0400
TZOFFSETTO:-0500
TZNAME:EST
DTSTART:20231105T060000
END:STANDARD
BEGIN:DAYLIGHT
TZOFFSETFROM:-0500
TZOFFSETTO:-0400
TZNAME:EDT
DTSTART:20240310T070000
END:DAYLIGHT
BEGIN:STANDARD
TZOFFSETFROM:-0400
TZOFFSETTO:-0500
TZNAME:EST
DTSTART:20241103T060000
END:STANDARD
BEGIN:DAYLIGHT
TZOFFSETFROM:-0500
TZOFFSETTO:-0400
TZNAME:EDT
DTSTART:20250309T070000
END:DAYLIGHT
BEGIN:STANDARD
TZOFFSETFROM:-0400
TZOFFSETTO:-0500
TZNAME:EST
DTSTART:20251102T060000
END:STANDARD
END:VTIMEZONE
BEGIN:VEVENT
DTSTART;TZID=America/Indiana/Indianapolis:20240205T170000
DTEND;TZID=America/Indiana/Indianapolis:20240205T173000
DTSTAMP:20260425T194408
CREATED:20240111T021940Z
LAST-MODIFIED:20240116T130211Z
UID:63651-1707152400-1707154200@aohindy.com
SUMMARY:2024 Hibernian Scholarships Please Submit by February 5\, 2024
DESCRIPTION:Since 1985\, through the generous support of our members and friends\, the Kevin Barry Division has awarded over 60 scholarships to deserving high school seniors. This year we are proud to offer the following scholarships\, each worth $1500: \n\nHibernian Kehoe Scholarship\nKatie White AOH Scholarship\nDenis Moriarty AOH Scholarship\nJim McCaughna AOH Scholarship\nPat McNulty AOH Scholarship\n\nBy submitting the application below once\, students are eligible to win any of the above scholarships. Apply for 2024 Scholarships  \n  \n 
URL:https://aohindy.com/event/2024-hibernian-scholarships-please-submit-by-february-5-2024/
ATTACH;FMTTYPE=image/jpeg:https://aohindy.com/wp-content/uploads/2023/05/2023-Scholarship-Recipients.jpg
END:VEVENT
BEGIN:VEVENT
DTSTART;TZID=America/Indiana/Indianapolis:20240208T200000
DTEND;TZID=America/Indiana/Indianapolis:20240208T210000
DTSTAMP:20260425T194408
CREATED:20240103T040710Z
LAST-MODIFIED:20240308T032203Z
UID:63504-1707422400-1707426000@aohindy.com
SUMMARY:Hibernian Monthly Meeting - February 2024
DESCRIPTION:
URL:https://aohindy.com/event/hibernian-monthly-meeting-february-2024/
LOCATION:Hibernian Hall – St. Philip Neri Catholic Church\, 550 North Rural Street\, Indianapolis\, 46201\, United States
CATEGORIES:AOH Monthly Meeting
ATTACH;FMTTYPE=image/png:https://aohindy.com/wp-content/uploads/2020/07/Division-Meeting-01.png
END:VEVENT
END:VCALENDAR