BEGIN:VCALENDAR
VERSION:2.0
PRODID:-//Ancient Order of Hibernians - ECPv6.15.20//NONSGML v1.0//EN
CALSCALE:GREGORIAN
METHOD:PUBLISH
X-WR-CALNAME:Ancient Order of Hibernians
X-ORIGINAL-URL:https://aohindy.com
X-WR-CALDESC:Events for Ancient Order of Hibernians
REFRESH-INTERVAL;VALUE=DURATION:PT1H
X-Robots-Tag:noindex
X-PUBLISHED-TTL:PT1H
BEGIN:VTIMEZONE
TZID:America/Indiana/Indianapolis
BEGIN:DAYLIGHT
TZOFFSETFROM:-0500
TZOFFSETTO:-0400
TZNAME:EDT
DTSTART:20230312T070000
END:DAYLIGHT
BEGIN:STANDARD
TZOFFSETFROM:-0400
TZOFFSETTO:-0500
TZNAME:EST
DTSTART:20231105T060000
END:STANDARD
BEGIN:DAYLIGHT
TZOFFSETFROM:-0500
TZOFFSETTO:-0400
TZNAME:EDT
DTSTART:20240310T070000
END:DAYLIGHT
BEGIN:STANDARD
TZOFFSETFROM:-0400
TZOFFSETTO:-0500
TZNAME:EST
DTSTART:20241103T060000
END:STANDARD
BEGIN:DAYLIGHT
TZOFFSETFROM:-0500
TZOFFSETTO:-0400
TZNAME:EDT
DTSTART:20250309T070000
END:DAYLIGHT
BEGIN:STANDARD
TZOFFSETFROM:-0400
TZOFFSETTO:-0500
TZNAME:EST
DTSTART:20251102T060000
END:STANDARD
BEGIN:DAYLIGHT
TZOFFSETFROM:-0500
TZOFFSETTO:-0400
TZNAME:EDT
DTSTART:20260308T070000
END:DAYLIGHT
BEGIN:STANDARD
TZOFFSETFROM:-0400
TZOFFSETTO:-0500
TZNAME:EST
DTSTART:20261101T060000
END:STANDARD
BEGIN:DAYLIGHT
TZOFFSETFROM:-0500
TZOFFSETTO:-0400
TZNAME:EDT
DTSTART:20270314T070000
END:DAYLIGHT
BEGIN:STANDARD
TZOFFSETFROM:-0400
TZOFFSETTO:-0500
TZNAME:EST
DTSTART:20271107T060000
END:STANDARD
END:VTIMEZONE
BEGIN:VEVENT
DTSTART;TZID=America/Indiana/Indianapolis:20260315T113000
DTEND;TZID=America/Indiana/Indianapolis:20260315T143000
DTSTAMP:20260423T200938
CREATED:20260302T195453Z
LAST-MODIFIED:20260302T195454Z
UID:64495-1773574200-1773585000@aohindy.com
SUMMARY:The 154th Ancient Order of Hibernians St. Patrick’s Celebration Luncheon
DESCRIPTION:2026 AOH St. Patrick’s Celebration | March 15 | A Great Day for the Irish! \n\n\n\nOur day begins with Mass at St. John the Evangelist Catholic Church. After Mass\, the Hibernian members\, families\, and friends will parade up Capitol Avenue to the Indiana Roof Ballroom for the Celebration. There\, we will host over 400 guests and enjoy a luncheon\, awards ceremony\, and musical entertainment. \n\n\n\n \n\n\n\nOrder of Events | Sunday\, March 15\n\n\n\n– 10:00 am | Group photo of LOAH and AOH at St. John’s\n\n\n\n– 10:15 am | Blessing of the Celtic Cross (St. John’s Courtyard)\n\n\n\n– 10:30 am | Mass at St. John’s\n\n\n\n– 11:30 am | Parade to the Roof Ballroom (Beginning at St. John’s)\n\n\n\n– 11:45 am. | Luncheon and Entertainment at Indiana Roof Ballroom\n\n\n\nThe Deadline to Reserve Tickets to the 2026 AOH St. Patrick’s Celebration is March 10\n\n\n\n$40 adults\, $16 kids (12 and under).\n\n\n\nContact Kevin McGinley: 317-679-3917\, kmcginley720@sbcglobal.net
URL:https://aohindy.com/event/the-154th-ancient-order-of-hibernians-st-patricks-celebration-luncheon/
LOCATION:Indiana Roof Ballroom\, 140 West Washington Street\, Indianapolis\, IN\, 46204\, United States
CATEGORIES:St. Patrick's Day Celebration
ATTACH;FMTTYPE=image/png:https://aohindy.com/wp-content/uploads/2026/01/The-154th-St.-Patricks-Celebration.png
END:VEVENT
BEGIN:VEVENT
DTSTART;TZID=America/Indiana/Indianapolis:20260313T103000
DTEND;TZID=America/Indiana/Indianapolis:20260313T123000
DTSTAMP:20260423T200938
CREATED:20260310T164708Z
LAST-MODIFIED:20260310T164711Z
UID:64499-1773397800-1773405000@aohindy.com
SUMMARY:44th Annual St. Patrick’s Day Parade
DESCRIPTION:Join us in marching in the St. Patrick’s Day parade. All members can join us in marching. Wear your AOH sash\, AOH hat\, AOH shirt\, AOH etc!  We will have sashes at the parade as well. If you’d like to purchase one email aohindy@gmail.com \n\n\n\nParade starts at 11:30AM – Please arrive at our spot by 10:30AM. If you want to find a close place to park I’d suggest arriving even earlier.  \n\n\n\nWe are meeting in the usual spot around 605 Fort Wayne Ave.  \n\n\n\n\n\n\n\n\n\n\n\n\n\nAOH Members before the St. Patrick’s Day Parade
URL:https://aohindy.com/event/44th-annual-st-patricks-day-parade/
LOCATION:Parade Meeting Location\, 605 Fort Wayne Ave\, Indianapolis\, Indiana\, 46204\, United States
CATEGORIES:Irish Events Indianapolis,St. Patrick's Day Celebration
ATTACH;FMTTYPE=image/jpeg:https://aohindy.com/wp-content/uploads/2025/04/IMG_3829.heic3_-scaled.jpg
END:VEVENT
BEGIN:VEVENT
DTSTART;TZID=America/Indiana/Indianapolis:20260305T190000
DTEND;TZID=America/Indiana/Indianapolis:20260305T210000
DTSTAMP:20260423T200938
CREATED:20260216T155039Z
LAST-MODIFIED:20260216T155041Z
UID:64487-1772737200-1772744400@aohindy.com
SUMMARY:Hibernian Monthly Meeting - March 5th
DESCRIPTION:The March AOH monthly meeting will be held Thursday\, March 5th\, 7:00pm at St. Philip Neri Catholic Church located at 550 N Rural Street\, Indianapolis.  We will discuss our upcoming St. Patrick’s Day Celebration on March 15th. 
URL:https://aohindy.com/event/hibernian-monthly-meeting-march-5th/
LOCATION:Hibernian Hall – St. Philip Neri Catholic Church\, 550 North Rural Street\, Indianapolis\, 46201\, United States
CATEGORIES:AOH Monthly Meeting
ATTACH;FMTTYPE=image/png:https://aohindy.com/wp-content/uploads/2026/02/AOH-DIVISION-MONTHLY-MEETING-5.png
END:VEVENT
BEGIN:VEVENT
DTSTART;TZID=America/Indiana/Indianapolis:20260212T200000
DTEND;TZID=America/Indiana/Indianapolis:20260212T220000
DTSTAMP:20260423T200938
CREATED:20260206T221209Z
LAST-MODIFIED:20260206T221236Z
UID:64482-1770926400-1770933600@aohindy.com
SUMMARY:Hibernian Monthly Meeting - February 12th
DESCRIPTION:The February AOH monthly meeting will be held this Thursday\, February 12th\, 8:00pm at St Philip Neri Catholic Church located at 550 N Rural Street\, Indianapolis.  Much discussion will be held on our upcoming St. Patrick’s Day Celebration on March 15th. 
URL:https://aohindy.com/event/hibernian-monthly-meeting-february-12th/
CATEGORIES:AOH Monthly Meeting
ATTACH;FMTTYPE=image/png:https://aohindy.com/wp-content/uploads/2026/02/AOH-DIVISION-MONTHLY-MEETING-4.png
END:VEVENT
BEGIN:VEVENT
DTSTART;TZID=America/Indiana/Indianapolis:20260111T143000
DTEND;TZID=America/Indiana/Indianapolis:20260111T170000
DTSTAMP:20260423T200938
CREATED:20260105T192533Z
LAST-MODIFIED:20260105T192534Z
UID:64406-1768141800-1768150800@aohindy.com
SUMMARY:AOH Installation of Officers and Dinner
DESCRIPTION:Our AOH Installation of Officers and dinner will be held this Sunday\, January 11th at Scecina Memorial High School located at 5000 Nowland Ave\, Indianapolis.  We will begin with mass in the Scecina Chapel at 2:30pm followed by the installation and dinner.  The cost will be $25 per person and $15 for children 16 years of age and under.  Payment will be made at the event by check or cash.  Make checks payable to AOH.  Please respond to this email if you plan on attending and the number in your party.  Spouses are welcome. \n\n\n\n \n\n\n\nThe Chapel is located on the main floor of Scecina.  The installation of officers and the dinner will also take place on the main floor.  For those individuals needing assistance\, a handicap entrance is located at the main entrance of the school on Nowland Avenue.   The entrance leads into the main floor.
URL:https://aohindy.com/event/aoh-installation-of-officers-and-dinner/
LOCATION:Scecina Memorial High School\, 5000 Nowland Ave\, indianapolis\, Indiana\, 46201\, United States
CATEGORIES:Installation Dinner
ATTACH;FMTTYPE=image/jpeg:https://aohindy.com/wp-content/uploads/2026/01/scecina.jpg
END:VEVENT
BEGIN:VEVENT
DTSTART;TZID=America/Indiana/Indianapolis:20260108T190000
DTEND;TZID=America/Indiana/Indianapolis:20260108T200000
DTSTAMP:20260423T200938
CREATED:20260105T190726Z
LAST-MODIFIED:20260105T190728Z
UID:64403-1767898800-1767902400@aohindy.com
SUMMARY:Hibernian Monthly Meeting - January 8th
DESCRIPTION:The January AOH monthly meeting will be held this Thursday\, January 8th\, 7:00pm at St Philip Neri Catholic Church located at 550 N Rural Street\, Indianapolis.  Much discussion will be held on our upcoming St. Patrick’s Day Celebration on March 15th. 
URL:https://aohindy.com/event/hibernian-monthly-meeting-january-8th/
LOCATION:Hibernian Hall – St. Philip Neri Catholic Church\, 550 North Rural Street\, Indianapolis\, 46201\, United States
CATEGORIES:AOH Monthly Meeting
ATTACH;FMTTYPE=image/png:https://aohindy.com/wp-content/uploads/2026/01/AOH-DIVISION-MONTHLY-MEETING-3.png
END:VEVENT
BEGIN:VEVENT
DTSTART;TZID=America/Indiana/Indianapolis:20251220T190000
DTEND;TZID=America/Indiana/Indianapolis:20251220T223000
DTSTAMP:20260423T200938
CREATED:20251111T153616Z
LAST-MODIFIED:20251215T194505Z
UID:64378-1766257200-1766269800@aohindy.com
SUMMARY:AOH Christmas Party
DESCRIPTION:AOH Kevin Barry Division’s annual Christmas party.
URL:https://aohindy.com/event/aoh-christmas-party/
LOCATION:Golden Ace Inn\, 2533 E. Washington Street\, Indianapolis\, In. 46201\, Indianapolis\, IN\, 46201\, United States
CATEGORIES:Christmas Party
ATTACH;FMTTYPE=image/png:https://aohindy.com/wp-content/uploads/2025/11/AOH-Christmas-party-flyer-2025-2.png
END:VEVENT
BEGIN:VEVENT
DTSTART;TZID=America/Indiana/Indianapolis:20251211T200000
DTEND;TZID=America/Indiana/Indianapolis:20251211T210000
DTSTAMP:20260423T200939
CREATED:20251120T130700Z
LAST-MODIFIED:20251211T214359Z
UID:64321-1765483200-1765486800@aohindy.com
SUMMARY:Hibernian Monthly Meeting – December 11th
DESCRIPTION:Our monthly meeting is Thursday\, December 11th\, 8:00pm at St. Philip Neri Catholic Church
URL:https://aohindy.com/event/hibernian-monthly-meeting-december-11th/
LOCATION:Hibernian Hall – St. Philip Neri Catholic Church\, 550 North Rural Street\, Indianapolis\, 46201\, United States
CATEGORIES:AOH Monthly Meeting
ATTACH;FMTTYPE=image/png:https://aohindy.com/wp-content/uploads/2025/09/AOH-DIVISION-MONTHLY-MEETING-Dec.png
END:VEVENT
BEGIN:VEVENT
DTSTART;TZID=America/Indiana/Indianapolis:20251113T200000
DTEND;TZID=America/Indiana/Indianapolis:20251113T210000
DTSTAMP:20260423T200939
CREATED:20251016T140000Z
LAST-MODIFIED:20250910T155124Z
UID:64317-1763064000-1763067600@aohindy.com
SUMMARY:Hibernian Monthly Meeting – November 13th
DESCRIPTION:Our monthly meeting is Thursday\, November 13th\, 8:00pm at St. Philip Neri Catholic Church
URL:https://aohindy.com/event/hibernian-monthly-meeting-november-13th/
LOCATION:Hibernian Hall – St. Philip Neri Catholic Church\, 550 North Rural Street\, Indianapolis\, 46201\, United States
CATEGORIES:AOH Monthly Meeting
ATTACH;FMTTYPE=image/png:https://aohindy.com/wp-content/uploads/2025/09/AOH-DIVISION-MONTHLY-MEETING-Nov.png
END:VEVENT
BEGIN:VEVENT
DTSTART;TZID=America/Indiana/Indianapolis:20251109T113000
DTEND;TZID=America/Indiana/Indianapolis:20251109T123000
DTSTAMP:20260423T200939
CREATED:20251022T030010Z
LAST-MODIFIED:20251022T031911Z
UID:64357-1762687800-1762691400@aohindy.com
SUMMARY:Annual AOH Memorial Mass Nov 9th
DESCRIPTION:Our Annual AOH Memorial Mass for deceased AOH members will be held at St Luke Catholic Church located at 7575 Holliday Drive\, Indianapolis on Sunday\, November 9th\, 11:30am.  Deceased members we will be remembering this year are Brothers Michael J. Boyle\, Thomas F. McAndrews and Brian J. McGinley. 
URL:https://aohindy.com/event/annual-aoh-memorial-mass/
LOCATION:St. Luke Catholic Church\, 7575 Holliday Dr\, Indianapolis\, Indiana\, 46260\, United States
CATEGORIES:Hibernian Mass
ATTACH;FMTTYPE=image/png:https://aohindy.com/wp-content/uploads/2025/10/AOH-Memorial-Mass-2025-1.png
END:VEVENT
BEGIN:VEVENT
DTSTART;TZID=America/Indiana/Indianapolis:20251009T200000
DTEND;TZID=America/Indiana/Indianapolis:20251009T210000
DTSTAMP:20260423T200939
CREATED:20250918T144631Z
LAST-MODIFIED:20250910T155134Z
UID:64314-1760040000-1760043600@aohindy.com
SUMMARY:Hibernian Monthly Meeting – October 9th
DESCRIPTION:Our monthly meeting is Thursday\, October 9th\, 8:00pm at St. Philip Neri Catholic Church
URL:https://aohindy.com/event/hibernian-monthly-meeting-october-9th/
LOCATION:Hibernian Hall – St. Philip Neri Catholic Church\, 550 North Rural Street\, Indianapolis\, 46201\, United States
CATEGORIES:AOH Monthly Meeting
ATTACH;FMTTYPE=image/png:https://aohindy.com/wp-content/uploads/2025/09/AOH-DIVISION-MONTHLY-MEETING-Oct.png
END:VEVENT
BEGIN:VEVENT
DTSTART;TZID=America/Indiana/Indianapolis:20250911T190000
DTEND;TZID=America/Indiana/Indianapolis:20250911T200000
DTSTAMP:20260423T200939
CREATED:20250908T131922Z
LAST-MODIFIED:20250911T011929Z
UID:64310-1757617200-1757620800@aohindy.com
SUMMARY:Hibernian Monthly Meeting – September 11th
DESCRIPTION:Our monthly meeting is this Thursday\, September 11th\, is a St. Philp Neri Catholic Church
URL:https://aohindy.com/event/hibernian-monthly-meeting-september-11th/
LOCATION:Hibernian Hall – St. Philip Neri Catholic Church\, 550 North Rural Street\, Indianapolis\, 46201\, United States
CATEGORIES:AOH Monthly Meeting
ATTACH;FMTTYPE=image/png:https://aohindy.com/wp-content/uploads/2025/09/AOH-DIVISION-MONTHLY-MEETING-sept.png
END:VEVENT
BEGIN:VEVENT
DTSTART;TZID=America/Indiana/Indianapolis:20250824T130000
DTEND;TZID=America/Indiana/Indianapolis:20250824T170000
DTSTAMP:20260423T200939
CREATED:20250722T145330Z
LAST-MODIFIED:20250722T145623Z
UID:64289-1756040400-1756054800@aohindy.com
SUMMARY:The Annual AOH Picnic and State AOH Reverse Raffle
DESCRIPTION:The Annual AOH Picnic and State AOH Reverse Raffle is scheduled for Sunday\, August 24th at the Moose Lodge 7055 E 16th Street.  Mass begins at 1:00pm.
URL:https://aohindy.com/event/the-annual-aoh-picnic-and-state-aoh-reverse-raffle/
LOCATION:Moose Lodge 17\, 7055 E 16th St\, Indianapolis\, IN\, 46219
CATEGORIES:Irish Events Indianapolis
ATTACH;FMTTYPE=image/png:https://aohindy.com/wp-content/uploads/2025/07/AOH-Picnic-2025-1.png
END:VEVENT
BEGIN:VEVENT
DTSTART;TZID=America/Indiana/Indianapolis:20250816T070000
DTEND;TZID=America/Indiana/Indianapolis:20250816T130000
DTSTAMP:20260423T200939
CREATED:20250708T132939Z
LAST-MODIFIED:20250708T132940Z
UID:64283-1755327600-1755349200@aohindy.com
SUMMARY:2025 AOH Golf Scramble
DESCRIPTION:⛳ Join us for a great day of golf at Sarah Shank Golf Course! ⛳ \n\n\n\n📍 Location: 2607 S. Keystone Avenue\, Indianapolis\, IN 46203📅 Date: Saturday\, August 16\, 2025🕖 Check-in: 7:00 – 7:45 AM🚨 Shotgun Start: 8:00 AM \n\n\n\n🎉 Food is provided🎟️ 50/50 Raffle Tickets Available📏 $20 Yard Sticks (1 per team) \n\n\n\n🏆 Prizes awarded for: \n\n\n\n\nLongest Drive\n\n\n\nClosest to the Pin\n\n\n\nLongest Putt\n\n\n\nTop 3 Teams\n\n\n\n\n👉 To register\, contact:Mike Tobin📞 317-319-8683📧 tobinm914@gmail.com \n\n\n\nGet your team together and don’t miss out!
URL:https://aohindy.com/event/2025-aoh-golf-scramble/
LOCATION:Sarah Shank\, 2607 S. Keystone Avenue\, Indianapolis\, Indiana\, 46203\, United States
CATEGORIES:Golf Outing
ATTACH;FMTTYPE=image/png:https://aohindy.com/wp-content/uploads/2025/07/Green-Golf-Ball-Golf-Tournament-Flyer1.png
END:VEVENT
BEGIN:VEVENT
DTSTART;TZID=America/Indiana/Indianapolis:20250814T200000
DTEND;TZID=America/Indiana/Indianapolis:20250814T210000
DTSTAMP:20260423T200939
CREATED:20250711T131400Z
LAST-MODIFIED:20250708T131635Z
UID:64280-1755201600-1755205200@aohindy.com
SUMMARY:Hibernian Monthly Meeting – August 14th
DESCRIPTION:
URL:https://aohindy.com/event/hibernian-monthly-meeting-august-14th/
LOCATION:Golden Ace Inn\, 2533 E. Washington Street\, Indianapolis\, In. 46201\, Indianapolis\, IN\, 46201\, United States
CATEGORIES:AOH Monthly Meeting
ATTACH;FMTTYPE=image/png:https://aohindy.com/wp-content/uploads/2025/07/AOH-DIVISION-MONTHLY-MEETING-Aug.png
END:VEVENT
BEGIN:VEVENT
DTSTART;TZID=America/Indiana/Indianapolis:20250710T200000
DTEND;TZID=America/Indiana/Indianapolis:20250710T210000
DTSTAMP:20260423T200939
CREATED:20250707T142155Z
LAST-MODIFIED:20250707T142156Z
UID:64277-1752177600-1752181200@aohindy.com
SUMMARY:Hibernian Monthly Meeting – July 10th
DESCRIPTION:
URL:https://aohindy.com/event/hibernian-monthly-meeting-july-10th/
LOCATION:Golden Ace Inn\, 2533 E. Washington Street\, Indianapolis\, In. 46201\, Indianapolis\, IN\, 46201\, United States
CATEGORIES:AOH Monthly Meeting
ATTACH;FMTTYPE=image/png:https://aohindy.com/wp-content/uploads/2025/07/AOH-DIVISION-MONTHLY-MEETING-July.png
END:VEVENT
BEGIN:VEVENT
DTSTART;TZID=America/Indiana/Indianapolis:20250605T190000
DTEND;TZID=America/Indiana/Indianapolis:20250605T200000
DTSTAMP:20260423T200939
CREATED:20250521T212811Z
LAST-MODIFIED:20250604T164809Z
UID:64260-1749150000-1749153600@aohindy.com
SUMMARY:Hibernian Monthly Meeting – June 5th
DESCRIPTION:
URL:https://aohindy.com/event/hibernian-monthly-meeting-june-5th/
LOCATION:Golden Ace Inn\, 2533 E. Washington Street\, Indianapolis\, In. 46201\, Indianapolis\, IN\, 46201\, United States
CATEGORIES:AOH Monthly Meeting
ATTACH;FMTTYPE=image/png:https://aohindy.com/wp-content/uploads/2025/05/AOH-DIVISION-MONTHLY-MEETING-June.png
END:VEVENT
BEGIN:VEVENT
DTSTART;TZID=America/Indiana/Indianapolis:20250508T200000
DTEND;TZID=America/Indiana/Indianapolis:20250508T210000
DTSTAMP:20260423T200939
CREATED:20250505T213540Z
LAST-MODIFIED:20250505T213541Z
UID:64242-1746734400-1746738000@aohindy.com
SUMMARY:Hibernian Monthly Meeting - May 8th
DESCRIPTION:
URL:https://aohindy.com/event/hibernian-monthly-meeting-may-8th/
LOCATION:Hibernian Hall – St. Philip Neri Catholic Church\, 550 North Rural Street\, Indianapolis\, 46201\, United States
CATEGORIES:AOH Monthly Meeting
ATTACH;FMTTYPE=image/png:https://aohindy.com/wp-content/uploads/2025/05/AOH-DIVISION-MONTHLY-MEETING-May.png
END:VEVENT
BEGIN:VEVENT
DTSTART;TZID=America/Indiana/Indianapolis:20250410T200000
DTEND;TZID=America/Indiana/Indianapolis:20250410T210000
DTSTAMP:20260423T200939
CREATED:20250407T191758Z
LAST-MODIFIED:20250407T191759Z
UID:64236-1744315200-1744318800@aohindy.com
SUMMARY:Hibernian Monthly Meeting - April 10th
DESCRIPTION:Our monthly meeting will be Thursday April 10th.
URL:https://aohindy.com/event/hibernian-monthly-meeting-april-10th/
LOCATION:Hibernian Hall – St. Philip Neri Catholic Church\, 550 North Rural Street\, Indianapolis\, 46201\, United States
CATEGORIES:AOH Monthly Meeting
ATTACH;FMTTYPE=image/png:https://aohindy.com/wp-content/uploads/2025/04/AOH-DIVISION-MONTHLY-MEETING.png
END:VEVENT
BEGIN:VEVENT
DTSTART;TZID=America/Indiana/Indianapolis:20250316T100000
DTEND;TZID=America/Indiana/Indianapolis:20250316T150000
DTSTAMP:20260423T200939
CREATED:20250301T183644Z
LAST-MODIFIED:20250301T183645Z
UID:64218-1742119200-1742137200@aohindy.com
SUMMARY:153rd AOH St. Patrick's Celebration - 2025
DESCRIPTION:☘️Join Us for the 153rd St. Patrick’s Day Celebration! ☘️ \n\n\n\nThe Ancient Order of Hibernians invites you to a day of Irish tradition\, faith\, and festivity on Sunday\, March 16th. \n\n\n\n📍 Event Schedule \n\n\n\nSt. John the Evangelist Catholic Church (126 W Georgia St\, Indianapolis)\n\n\n\n⏳ 10:10 AM – Laying of the wreath at the Celtic Cross⏳ 10:30 AM – St. Patrick’s Day Mass \n\n\n\nParade from St. John’s to the Indiana Roof Ballroom\n\n\n\n⏳ 11:30 AM – Parade begins \n\n\n\nIndiana Roof Ballroom (140 W Washington St\, Indianapolis)\n\n\n\n⏳ 11:15 AM – St. Patrick’s Celebration – Doors open at IRB☘️ Three-course plated meal☘️ AOH Awards Presentations☘️ Live music by the Indianapolis Ceili Band☘️ Special guest from Ireland \n\n\n\n🎟️ Reservations Required by March 11th!\n\n\n\nContact John Hegarty at 📞 317-258-5159 or 📧 jhegarty@scecina.org to reserve your spot. \n\n\n\n🎟️ Raffle Prizes:\n\n\n\n🏆 1st Prize – Airfare for Two to Ireland ✈️🏆 2nd Prize – CIB Suite (18 tickets) for an Indianapolis Indians Game ⚾🏆 3rd Prize – Gift Basket from 3 Irish Sisters 🎁 \n\n\n\nJoin us for a day filled with heritage\, music\, and celebration—wear your green and bring your Irish spirit! ☘️
URL:https://aohindy.com/event/153rd-aoh-st-patricks-celebration-2025/
LOCATION:St. John the Evangelist Catholic Church\, 126 W Georgia Street\, Indianapolis\, IN\, 46225\, United States
CATEGORIES:St. Patrick's Day Celebration
ATTACH;FMTTYPE=image/jpeg:https://aohindy.com/wp-content/uploads/2025/03/AOH_Postcard.jpg
END:VEVENT
BEGIN:VEVENT
DTSTART;TZID=America/Indiana/Indianapolis:20250314T100000
DTEND;TZID=America/Indiana/Indianapolis:20250314T120000
DTSTAMP:20260423T200939
CREATED:20250301T180846Z
LAST-MODIFIED:20250301T180846Z
UID:64209-1741946400-1741953600@aohindy.com
SUMMARY:2025 Indianapolis St. Patrick's Day Parade
DESCRIPTION:The 2025 Indianapolis St. Patrick’s Day Parade will be held on Friday\, March 14\, 2025.  Once again the Division has secured a spot to march in the parade.  I am asking all members and their families to come out and celebrate your Irish by marching with the Kevin Barry Division in the parade.   \n\n\n\nWe will begin to gather at 10:00am at the corners of Pennsylvania St\, Ft Wayne and North St.   \n\n\n\nThe parade kicks off at 11:30am.  When you arrive look for Vice President Tim Coughlin or Brother Mike Tobin.  
URL:https://aohindy.com/event/2025-indianapolis-st-patricks-day-parade/
LOCATION:E North St & Fort Wayne Ave\, E North St & Fort Wayne Ave\, Indianapolis\, Indiana\, 46202\, United States
CATEGORIES:Irish Events Indianapolis
ATTACH;FMTTYPE=image/jpeg:https://aohindy.com/wp-content/uploads/2024/04/275_edited42ndannualstpatricksdayparadefridaymarch152024-scaled.jpg
END:VEVENT
BEGIN:VEVENT
DTSTART;TZID=America/Indiana/Indianapolis:20250313T200000
DTEND;TZID=America/Indiana/Indianapolis:20250313T213000
DTSTAMP:20260423T200939
CREATED:20250301T181425Z
LAST-MODIFIED:20250301T181425Z
UID:64215-1741896000-1741901400@aohindy.com
SUMMARY:Hibernian Monthly Meeting – March 13th 2025
DESCRIPTION:Our March monthly meeting is Thursday\, March 13th\, 8:00pm at St. Philip Neri Catholic Church located at 550 N Rural Street.  We look forward to seeing you there.
URL:https://aohindy.com/event/hibernian-monthly-meeting-march-13th-2025/
LOCATION:Hibernian Hall – St. Philip Neri Catholic Church\, 550 North Rural Street\, Indianapolis\, 46201\, United States
CATEGORIES:AOH Monthly Meeting
ATTACH;FMTTYPE=image/png:https://aohindy.com/wp-content/uploads/2025/03/AOH-DIVISION-MONTHLY-MEETING_Mar2025.png
END:VEVENT
BEGIN:VEVENT
DTSTART;TZID=America/Indiana/Indianapolis:20250307T183000
DTEND;TZID=America/Indiana/Indianapolis:20250307T223000
DTSTAMP:20260423T200939
CREATED:20250211T162954Z
LAST-MODIFIED:20250211T162955Z
UID:64169-1741372200-1741386600@aohindy.com
SUMMARY:2nd Annual Circle City Irish Fest Casino Night
DESCRIPTION:Join us for our 2nd Annual Casino Night Fundraiser\, and help us kick of the month of March festivities! Bring friends and family and enjoy a night of Fun and Casino Games! \n\n\n\n$35 Per PersonFood Provided50/50 RaffleAlcohol for PurchaseRSVP to Danny McNelis by:317-989-3586 or daniel.mcnelis1@gmail.com  \n\n\n\n \n\n\n\n\n\n\n\nSee less
URL:https://aohindy.com/event/2nd-annual-circle-city-irish-fest-casino-night/
LOCATION:McGowan Hall\, 1305 N Delaware Street\, Indianapolis\, Indiana\, 46202\, United States
CATEGORIES:Indy Irish Fest
ATTACH;FMTTYPE=image/jpeg:https://aohindy.com/wp-content/uploads/2025/02/CCIF_CasinoNight1.jpg
END:VEVENT
BEGIN:VEVENT
DTSTART;TZID=America/Indiana/Indianapolis:20250213T200000
DTEND;TZID=America/Indiana/Indianapolis:20250213T220000
DTSTAMP:20260423T200939
CREATED:20250127T191509Z
LAST-MODIFIED:20250205T020037Z
UID:64149-1739476800-1739484000@aohindy.com
SUMMARY:February monthly meeting 2025
DESCRIPTION:Our February monthly meeting is Thursday\, February 13th\, 8:00pm at St. Philip Neri Catholic Church located at 550 N Rural Street. We look forward to seeing you there.
URL:https://aohindy.com/event/february-monthly-meeting-2025/
LOCATION:Hibernian Hall – St. Philip Neri Catholic Church\, 550 North Rural Street\, Indianapolis\, 46201\, United States
CATEGORIES:AOH Monthly Meeting
ATTACH;FMTTYPE=image/png:https://aohindy.com/wp-content/uploads/2025/01/AOH-DIVISION-MONTHLY-MEETING-1-1.png
END:VEVENT
BEGIN:VEVENT
DTSTART;TZID=America/Indiana/Indianapolis:20250116T190000
DTEND;TZID=America/Indiana/Indianapolis:20250116T213000
DTSTAMP:20260423T200939
CREATED:20241230T182250Z
LAST-MODIFIED:20250107T185603Z
UID:64115-1737054000-1737063000@aohindy.com
SUMMARY:Hibernian Monthly Meeting – January 16th 2025
DESCRIPTION:Our January monthly meeting is this Thursday\, January 9th\, 8:00pm at St. Philip Neri Catholic Church located at 550 N Rural Street.  We look forward to seeing you there.
URL:https://aohindy.com/event/hibernian-monthly-meeting-january-9th-2025/
LOCATION:McGowan Hall\, 1305 N Delaware Street\, Indianapolis\, Indiana\, 46202\, United States
CATEGORIES:AOH Monthly Meeting
ATTACH;FMTTYPE=image/png:https://aohindy.com/wp-content/uploads/2024/12/AOH-DIVISION-MONTHLY-MEETING-Jan.png
END:VEVENT
BEGIN:VEVENT
DTSTART;TZID=America/Indiana/Indianapolis:20241214T183000
DTEND;TZID=America/Indiana/Indianapolis:20241214T213000
DTSTAMP:20260423T200939
CREATED:20241118T024955Z
LAST-MODIFIED:20241206T162809Z
UID:64101-1734201000-1734211800@aohindy.com
SUMMARY:AOH KBD3 Christmas Party 2024
DESCRIPTION:It’s time for the annual AOH Christmas Party. Please join us December 14th starting at 6:30. There will be Food – Drinks – Music
URL:https://aohindy.com/event/aoh-kbd3-christmas-party-2024/
LOCATION:Golden Ace Inn\, 2533 E. Washington Street\, Indianapolis\, In. 46201\, Indianapolis\, IN\, 46201\, United States
CATEGORIES:Christmas Party
ATTACH;FMTTYPE=image/png:https://aohindy.com/wp-content/uploads/2024/11/black-and-red-vintage-christmas-party-flyer.png
END:VEVENT
BEGIN:VEVENT
DTSTART;TZID=America/Indiana/Indianapolis:20241212T200000
DTEND;TZID=America/Indiana/Indianapolis:20241212T220000
DTSTAMP:20260423T200939
CREATED:20240107T232101Z
LAST-MODIFIED:20240308T030459Z
UID:63636-1734033600-1734040800@aohindy.com
SUMMARY:Hibernian Monthly Meeting – December 2024
DESCRIPTION:
URL:https://aohindy.com/event/hibernian-monthly-meeting-december-2024/
LOCATION:Hibernian Hall – St. Philip Neri Catholic Church\, 550 North Rural Street\, Indianapolis\, 46201\, United States
CATEGORIES:AOH Monthly Meeting
ATTACH;FMTTYPE=image/png:https://aohindy.com/wp-content/uploads/2020/07/Division-Meeting-01.png
ORGANIZER;CN="Kevin Barry Division":MAILTO:aohindy@gmail.com
END:VEVENT
BEGIN:VEVENT
DTSTART;TZID=America/Indiana/Indianapolis:20241114T200000
DTEND;TZID=America/Indiana/Indianapolis:20241114T220000
DTSTAMP:20260423T200939
CREATED:20240107T232025Z
LAST-MODIFIED:20241111T192151Z
UID:63634-1731614400-1731621600@aohindy.com
SUMMARY:Hibernian Monthly Meeting – November 2024
DESCRIPTION:
URL:https://aohindy.com/event/hibernian-monthly-meeting-november-2024/
LOCATION:Hibernian Hall – St. Philip Neri Catholic Church\, 550 North Rural Street\, Indianapolis\, 46201\, United States
CATEGORIES:AOH Monthly Meeting
ATTACH;FMTTYPE=image/png:https://aohindy.com/wp-content/uploads/2020/07/Division-Meeting-01.png
ORGANIZER;CN="Kevin Barry Division":MAILTO:aohindy@gmail.com
END:VEVENT
BEGIN:VEVENT
DTSTART;TZID=America/Indiana/Indianapolis:20241110T093000
DTEND;TZID=America/Indiana/Indianapolis:20241110T103000
DTSTAMP:20260423T200939
CREATED:20241022T135550Z
LAST-MODIFIED:20241022T135550Z
UID:64088-1731231000-1731234600@aohindy.com
SUMMARY:KBD Memorial Mass 2024
DESCRIPTION:The mass for AOH deceased members is Sunday\, November 10th at St. Philip Neri at 9:30am.  All members are asked to wear their sash.
URL:https://aohindy.com/event/kbd-memorial-mass-2024/
LOCATION:St. Philip Neri Catholic Church\, 550 N Rural St\, Indianapolis\, Indiana\, 46201\, United States
CATEGORIES:Hibernian Mass
ATTACH;FMTTYPE=image/png:https://aohindy.com/wp-content/uploads/2024/10/Memorial-Mass-02.png
END:VEVENT
BEGIN:VEVENT
DTSTART;TZID=America/Indiana/Indianapolis:20241020T160000
DTEND;TZID=America/Indiana/Indianapolis:20241020T180000
DTSTAMP:20260423T200939
CREATED:20241015T141435Z
LAST-MODIFIED:20241015T141744Z
UID:64083-1729440000-1729447200@aohindy.com
SUMMARY:Irish Consul General Reception
DESCRIPTION:On Sunday\, October 20th the Indiana State Board of the Ancient Order of Hibernians\, The Kevin Barry Division of the Ancient Order of Hibernians and Kevin Murray will be hosting a reception for the new Irish Consul General of Chicago\, Brian Cahalane\, on his first visit to Indianapolis. \n\n\n\nGeneral Consul Cahalane\, a native of Galway\, has extensive experience as an Irish diplomat. He has worked for Ireland in Brussels\, Geneva\, New York and Washington\, D.C.  The reception will be held between 4:00-6:00pm at the Golden Ace Inn located at 2533 E Washington Street\, Indianapolis.  Please join us in congratulating Consul General Cahalane on his recently appointed position and welcoming him to Indianapolis.
URL:https://aohindy.com/event/irish-consul-general-reception/
LOCATION:Golden Ace Inn\, 2533 E. Washington Street\, Indianapolis\, In. 46201\, Indianapolis\, IN\, 46201\, United States
ATTACH;FMTTYPE=image/jpeg:https://aohindy.com/wp-content/uploads/2024/10/CG_Brian_Cahalane.2e16d0ba.fill-960x540-c100.jpg
END:VEVENT
END:VCALENDAR