BEGIN:VCALENDAR
VERSION:2.0
PRODID:-//Ancient Order of Hibernians - ECPv6.15.20//NONSGML v1.0//EN
CALSCALE:GREGORIAN
METHOD:PUBLISH
X-ORIGINAL-URL:https://aohindy.com
X-WR-CALDESC:Events for Ancient Order of Hibernians
REFRESH-INTERVAL;VALUE=DURATION:PT1H
X-Robots-Tag:noindex
X-PUBLISHED-TTL:PT1H
BEGIN:VTIMEZONE
TZID:America/Indiana/Indianapolis
BEGIN:DAYLIGHT
TZOFFSETFROM:-0500
TZOFFSETTO:-0400
TZNAME:EDT
DTSTART:20150308T070000
END:DAYLIGHT
BEGIN:STANDARD
TZOFFSETFROM:-0400
TZOFFSETTO:-0500
TZNAME:EST
DTSTART:20151101T060000
END:STANDARD
BEGIN:DAYLIGHT
TZOFFSETFROM:-0500
TZOFFSETTO:-0400
TZNAME:EDT
DTSTART:20160313T070000
END:DAYLIGHT
BEGIN:STANDARD
TZOFFSETFROM:-0400
TZOFFSETTO:-0500
TZNAME:EST
DTSTART:20161106T060000
END:STANDARD
BEGIN:DAYLIGHT
TZOFFSETFROM:-0500
TZOFFSETTO:-0400
TZNAME:EDT
DTSTART:20170312T070000
END:DAYLIGHT
BEGIN:STANDARD
TZOFFSETFROM:-0400
TZOFFSETTO:-0500
TZNAME:EST
DTSTART:20171105T060000
END:STANDARD
BEGIN:DAYLIGHT
TZOFFSETFROM:-0500
TZOFFSETTO:-0400
TZNAME:EDT
DTSTART:20180311T070000
END:DAYLIGHT
BEGIN:STANDARD
TZOFFSETFROM:-0400
TZOFFSETTO:-0500
TZNAME:EST
DTSTART:20181104T060000
END:STANDARD
BEGIN:DAYLIGHT
TZOFFSETFROM:-0500
TZOFFSETTO:-0400
TZNAME:EDT
DTSTART:20190310T070000
END:DAYLIGHT
BEGIN:STANDARD
TZOFFSETFROM:-0400
TZOFFSETTO:-0500
TZNAME:EST
DTSTART:20191103T060000
END:STANDARD
BEGIN:DAYLIGHT
TZOFFSETFROM:-0500
TZOFFSETTO:-0400
TZNAME:EDT
DTSTART:20200308T070000
END:DAYLIGHT
BEGIN:STANDARD
TZOFFSETFROM:-0400
TZOFFSETTO:-0500
TZNAME:EST
DTSTART:20201101T060000
END:STANDARD
BEGIN:DAYLIGHT
TZOFFSETFROM:-0500
TZOFFSETTO:-0400
TZNAME:EDT
DTSTART:20210314T070000
END:DAYLIGHT
BEGIN:STANDARD
TZOFFSETFROM:-0400
TZOFFSETTO:-0500
TZNAME:EST
DTSTART:20211107T060000
END:STANDARD
BEGIN:DAYLIGHT
TZOFFSETFROM:-0500
TZOFFSETTO:-0400
TZNAME:EDT
DTSTART:20220313T070000
END:DAYLIGHT
BEGIN:STANDARD
TZOFFSETFROM:-0400
TZOFFSETTO:-0500
TZNAME:EST
DTSTART:20221106T060000
END:STANDARD
BEGIN:DAYLIGHT
TZOFFSETFROM:-0500
TZOFFSETTO:-0400
TZNAME:EDT
DTSTART:20230312T070000
END:DAYLIGHT
BEGIN:STANDARD
TZOFFSETFROM:-0400
TZOFFSETTO:-0500
TZNAME:EST
DTSTART:20231105T060000
END:STANDARD
BEGIN:DAYLIGHT
TZOFFSETFROM:-0500
TZOFFSETTO:-0400
TZNAME:EDT
DTSTART:20240310T070000
END:DAYLIGHT
BEGIN:STANDARD
TZOFFSETFROM:-0400
TZOFFSETTO:-0500
TZNAME:EST
DTSTART:20241103T060000
END:STANDARD
BEGIN:DAYLIGHT
TZOFFSETFROM:-0500
TZOFFSETTO:-0400
TZNAME:EDT
DTSTART:20250309T070000
END:DAYLIGHT
BEGIN:STANDARD
TZOFFSETFROM:-0400
TZOFFSETTO:-0500
TZNAME:EST
DTSTART:20251102T060000
END:STANDARD
BEGIN:DAYLIGHT
TZOFFSETFROM:-0500
TZOFFSETTO:-0400
TZNAME:EDT
DTSTART:20260308T070000
END:DAYLIGHT
BEGIN:STANDARD
TZOFFSETFROM:-0400
TZOFFSETTO:-0500
TZNAME:EST
DTSTART:20261101T060000
END:STANDARD
BEGIN:DAYLIGHT
TZOFFSETFROM:-0500
TZOFFSETTO:-0400
TZNAME:EDT
DTSTART:20270314T070000
END:DAYLIGHT
BEGIN:STANDARD
TZOFFSETFROM:-0400
TZOFFSETTO:-0500
TZNAME:EST
DTSTART:20271107T060000
END:STANDARD
END:VTIMEZONE
BEGIN:VEVENT
DTSTART;TZID=America/Indiana/Indianapolis:20260315T113000
DTEND;TZID=America/Indiana/Indianapolis:20260315T143000
DTSTAMP:20260424T020352
CREATED:20260302T195453Z
LAST-MODIFIED:20260302T195454Z
UID:64495-1773574200-1773585000@aohindy.com
SUMMARY:The 154th Ancient Order of Hibernians St. Patrick’s Celebration Luncheon
DESCRIPTION:2026 AOH St. Patrick’s Celebration | March 15 | A Great Day for the Irish! \n\n\n\nOur day begins with Mass at St. John the Evangelist Catholic Church. After Mass\, the Hibernian members\, families\, and friends will parade up Capitol Avenue to the Indiana Roof Ballroom for the Celebration. There\, we will host over 400 guests and enjoy a luncheon\, awards ceremony\, and musical entertainment. \n\n\n\n \n\n\n\nOrder of Events | Sunday\, March 15\n\n\n\n– 10:00 am | Group photo of LOAH and AOH at St. John’s\n\n\n\n– 10:15 am | Blessing of the Celtic Cross (St. John’s Courtyard)\n\n\n\n– 10:30 am | Mass at St. John’s\n\n\n\n– 11:30 am | Parade to the Roof Ballroom (Beginning at St. John’s)\n\n\n\n– 11:45 am. | Luncheon and Entertainment at Indiana Roof Ballroom\n\n\n\nThe Deadline to Reserve Tickets to the 2026 AOH St. Patrick’s Celebration is March 10\n\n\n\n$40 adults\, $16 kids (12 and under).\n\n\n\nContact Kevin McGinley: 317-679-3917\, kmcginley720@sbcglobal.net
URL:https://aohindy.com/event/the-154th-ancient-order-of-hibernians-st-patricks-celebration-luncheon/
LOCATION:Indiana Roof Ballroom\, 140 West Washington Street\, Indianapolis\, IN\, 46204\, United States
CATEGORIES:St. Patrick's Day Celebration
ATTACH;FMTTYPE=image/png:https://aohindy.com/wp-content/uploads/2026/01/The-154th-St.-Patricks-Celebration.png
END:VEVENT
BEGIN:VEVENT
DTSTART;TZID=America/Indiana/Indianapolis:20260313T103000
DTEND;TZID=America/Indiana/Indianapolis:20260313T123000
DTSTAMP:20260424T020352
CREATED:20260310T164708Z
LAST-MODIFIED:20260310T164711Z
UID:64499-1773397800-1773405000@aohindy.com
SUMMARY:44th Annual St. Patrick’s Day Parade
DESCRIPTION:Join us in marching in the St. Patrick’s Day parade. All members can join us in marching. Wear your AOH sash\, AOH hat\, AOH shirt\, AOH etc!  We will have sashes at the parade as well. If you’d like to purchase one email aohindy@gmail.com \n\n\n\nParade starts at 11:30AM – Please arrive at our spot by 10:30AM. If you want to find a close place to park I’d suggest arriving even earlier.  \n\n\n\nWe are meeting in the usual spot around 605 Fort Wayne Ave.  \n\n\n\n\n\n\n\n\n\n\n\n\n\nAOH Members before the St. Patrick’s Day Parade
URL:https://aohindy.com/event/44th-annual-st-patricks-day-parade/
LOCATION:Parade Meeting Location\, 605 Fort Wayne Ave\, Indianapolis\, Indiana\, 46204\, United States
CATEGORIES:Irish Events Indianapolis,St. Patrick's Day Celebration
ATTACH;FMTTYPE=image/jpeg:https://aohindy.com/wp-content/uploads/2025/04/IMG_3829.heic3_-scaled.jpg
END:VEVENT
BEGIN:VEVENT
DTSTART;TZID=America/Indiana/Indianapolis:20250316T100000
DTEND;TZID=America/Indiana/Indianapolis:20250316T150000
DTSTAMP:20260424T020352
CREATED:20250301T183644Z
LAST-MODIFIED:20250301T183645Z
UID:64218-1742119200-1742137200@aohindy.com
SUMMARY:153rd AOH St. Patrick's Celebration - 2025
DESCRIPTION:☘️Join Us for the 153rd St. Patrick’s Day Celebration! ☘️ \n\n\n\nThe Ancient Order of Hibernians invites you to a day of Irish tradition\, faith\, and festivity on Sunday\, March 16th. \n\n\n\n📍 Event Schedule \n\n\n\nSt. John the Evangelist Catholic Church (126 W Georgia St\, Indianapolis)\n\n\n\n⏳ 10:10 AM – Laying of the wreath at the Celtic Cross⏳ 10:30 AM – St. Patrick’s Day Mass \n\n\n\nParade from St. John’s to the Indiana Roof Ballroom\n\n\n\n⏳ 11:30 AM – Parade begins \n\n\n\nIndiana Roof Ballroom (140 W Washington St\, Indianapolis)\n\n\n\n⏳ 11:15 AM – St. Patrick’s Celebration – Doors open at IRB☘️ Three-course plated meal☘️ AOH Awards Presentations☘️ Live music by the Indianapolis Ceili Band☘️ Special guest from Ireland \n\n\n\n🎟️ Reservations Required by March 11th!\n\n\n\nContact John Hegarty at 📞 317-258-5159 or 📧 jhegarty@scecina.org to reserve your spot. \n\n\n\n🎟️ Raffle Prizes:\n\n\n\n🏆 1st Prize – Airfare for Two to Ireland ✈️🏆 2nd Prize – CIB Suite (18 tickets) for an Indianapolis Indians Game ⚾🏆 3rd Prize – Gift Basket from 3 Irish Sisters 🎁 \n\n\n\nJoin us for a day filled with heritage\, music\, and celebration—wear your green and bring your Irish spirit! ☘️
URL:https://aohindy.com/event/153rd-aoh-st-patricks-celebration-2025/
LOCATION:St. John the Evangelist Catholic Church\, 126 W Georgia Street\, Indianapolis\, IN\, 46225\, United States
CATEGORIES:St. Patrick's Day Celebration
ATTACH;FMTTYPE=image/jpeg:https://aohindy.com/wp-content/uploads/2025/03/AOH_Postcard.jpg
END:VEVENT
BEGIN:VEVENT
DTSTART;TZID=America/Indiana/Indianapolis:20240310T114500
DTEND;TZID=America/Indiana/Indianapolis:20240310T140000
DTSTAMP:20260424T020352
CREATED:20240206T203623Z
LAST-MODIFIED:20240308T030819Z
UID:63711-1710071100-1710079200@aohindy.com
SUMMARY:AOH St. Patrick's Celebration at the Indiana Roof Ballroom
DESCRIPTION:
URL:https://aohindy.com/event/aoh-st-patricks-celebration-at-the-indiana-roof-ballroom/
LOCATION:Indiana Roof Ballroom\, 140 West Washington Street\, Indianapolis\, IN\, 46204\, United States
CATEGORIES:St. Patrick's Day Celebration
ATTACH;FMTTYPE=image/jpeg:https://aohindy.com/wp-content/uploads/2018/02/103_editedAOHSt.PatricksCelebration2016.jpg
END:VEVENT
BEGIN:VEVENT
DTSTART;TZID=America/Indiana/Indianapolis:20240310T103000
DTEND;TZID=America/Indiana/Indianapolis:20240310T113000
DTSTAMP:20260424T020352
CREATED:20240206T203252Z
LAST-MODIFIED:20240308T031937Z
UID:63709-1710066600-1710070200@aohindy.com
SUMMARY:AOH St. Patrick's Mass at St. John the Evangelist Catholic Church
DESCRIPTION:
URL:https://aohindy.com/event/aoh-st-patricks-mass-at-st-john-the-evangelist-catholic-church/
LOCATION:St. John the Evangelist Catholic Church\, 126 W Georgia Street\, Indianapolis\, IN\, 46225\, United States
CATEGORIES:Hibernian Mass,St. Patrick's Day Celebration
ATTACH;FMTTYPE=image/jpeg:https://aohindy.com/wp-content/uploads/2018/02/043_editedAOHSt.PatricksCelebration2016-e1519425461107.jpg
END:VEVENT
BEGIN:VEVENT
DTSTART;TZID=America/Indiana/Indianapolis:20240310T100000
DTEND;TZID=America/Indiana/Indianapolis:20240310T103000
DTSTAMP:20260424T020352
CREATED:20240206T203035Z
LAST-MODIFIED:20240308T032048Z
UID:63707-1710064800-1710066600@aohindy.com
SUMMARY:AOH St. Patrick's Mass Group Photo of LOAH and AOH
DESCRIPTION:
URL:https://aohindy.com/event/aoh-st-patricks-mass-group-photo-of-loah-and-aoh/
LOCATION:St. John the Evangelist Catholic Church\, 126 W Georgia Street\, Indianapolis\, IN\, 46225\, United States
CATEGORIES:Hibernian Mass,St. Patrick's Day Celebration
ATTACH;FMTTYPE=image/png:https://aohindy.com/wp-content/uploads/2024/02/AOH_LAOH_GroupPhoto2023.png
END:VEVENT
BEGIN:VEVENT
DTSTART;TZID=America/Indiana/Indianapolis:20190310T100000
DTEND;TZID=America/Indiana/Indianapolis:20190310T150000
DTSTAMP:20260424T020352
CREATED:20190120T171326Z
LAST-MODIFIED:20200125T234227Z
UID:547-1552212000-1552230000@aohindy.com
SUMMARY:2019 St. Patrick's Celebration
DESCRIPTION:Direct from Ireland\, The Willoughby Brothers will be our featured entertainment!\n\n\n\n\n\n\n\n\n\n\n\nOur day begins with Mass at St. John the Evangelist Catholic Church. After Mass\, the Hibernian members\, families and friends will parade up Capitol Avenue to the Indiana Roof Ballroom for the Celebration. There\, we will host over 400 guests and enjoy a luncheon\, awards ceremony\, a performance by the St. Patrick’s Day Rogues Pipes and Drums Band\, and musical entertainment by The Willoughby Brothers.\n\n\n\n\n\n\n\n\n\n\nMass 10:00 AM\n\n\nParade 11:00 AM\n\n\nCelebration 11:30 AM\n\n\n\n\n\n\n\n\n\n\n\n		\n	\n\n\n\n\n\n\n		\n	\n\n\n\n\n\n\n		\n	\n\n\n\n\n\n\n		\n	\n\n\n\n\n\n\n\n\n\nReserve Tickets by March 5:    $40 / $16  kids 12 and under\nContact John Hegarty 317-322-9854 for reservations.
URL:https://aohindy.com/event/2019-st-patricks-celebration/
LOCATION:Indiana Roof Ballroom\, 140 West Washington Street\, Indianapolis\, IN\, 46204\, United States
CATEGORIES:St. Patrick's Day Celebration
ATTACH;FMTTYPE=image/jpeg:https://aohindy.com/wp-content/uploads/2019/01/WillBrosTogether.jpg
ORGANIZER;CN="Indy AOH":MAILTO:aohindy@gmail.com
END:VEVENT
BEGIN:VEVENT
DTSTART;TZID=America/Indiana/Indianapolis:20180311T060000
DTEND;TZID=America/Indiana/Indianapolis:20180311T103000
DTSTAMP:20260424T020352
CREATED:20180209T213157Z
LAST-MODIFIED:20180224T034501Z
UID:494-1520748000-1520764200@aohindy.com
SUMMARY:2018 St. Patrick's Celebration
DESCRIPTION:Our day begins with Mass at St. John the Evangelist Catholic Church. After Mass\, the Hibernian members\, families and friends will parade up Capitol Avenue to the Indiana Roof Ballroom for the Celebration. There\, we will host over 400 guests and enjoy a luncheon\, awards ceremony\, a performance by the Irish Dancers of Indianapolis\, and musical entertainment by Brian Cunningham and The Irish Aires.\n  \n\n\n\n\n\n\n\n\n\n\nMass 10:00 AM\n\n\nParade 11:00 AM\n\n\nCelebration 11:30 AM\n\n\n\n\n\n\n\n\n\n\n\n		\n	\n\n\n\n\n\n\n		\n	\n\n\n\n\n\n\n		\n	\n\n\n\n\n\n\n		\n	\n\n\n\n\n\n\n\n\n\nReserve Tickets by March 7:    $35 / $16  kids 12 and under\nContact Chuck McGinley 317-359-7147 for reservations.
URL:https://aohindy.com/event/2018-st-patricks-celebration/
LOCATION:Indiana Roof Ballroom\, 140 West Washington Street\, Indianapolis\, IN\, 46204\, United States
CATEGORIES:St. Patrick's Day Celebration
ATTACH;FMTTYPE=image/jpeg:https://aohindy.com/wp-content/uploads/2018/02/195_editedirishairs.jpg
ORGANIZER;CN="Indy AOH":MAILTO:aohindy@gmail.com
END:VEVENT
BEGIN:VEVENT
DTSTART;VALUE=DATE:20160312
DTEND;VALUE=DATE:20160314
DTSTAMP:20260424T020352
CREATED:20151124T232756Z
LAST-MODIFIED:20151124T232837Z
UID:351-1457809200-1457899199@aohindy.com
SUMMARY:146th Annual St. Patrick's Day Hibernian Celebration
DESCRIPTION:Jimmy McGinley\, 2016 St. Patrick’s Day Celebration Chairman\, informed the membership that the Indiana Roof Ballroom has been reserved for our annual dinner on March 13\, 2016. \nOur entertainment this year will be Mossy Moran who hails from Ireland’s southeast coastal city of Waterford.  He will feature stories and songs about the 1916 Easter Rising\, as well as songs of more traditional Irish music. \nMore to come.
URL:https://aohindy.com/event/146th-annual-st-patricks-day-hibernian-celebration/
LOCATION:Indiana Roof Ballroom\, 140 West Washington Street\, Indianapolis\, IN\, 46204\, United States
CATEGORIES:St. Patrick's Day Celebration
ATTACH;FMTTYPE=image/jpeg:https://aohindy.com/wp-content/uploads/2015/11/Indiana-Roof-Ballroom.jpg
END:VEVENT
END:VCALENDAR