BEGIN:VCALENDAR
VERSION:2.0
PRODID:-//Ancient Order of Hibernians - ECPv6.15.20//NONSGML v1.0//EN
CALSCALE:GREGORIAN
METHOD:PUBLISH
X-WR-CALNAME:Ancient Order of Hibernians
X-ORIGINAL-URL:https://aohindy.com
X-WR-CALDESC:Events for Ancient Order of Hibernians
REFRESH-INTERVAL;VALUE=DURATION:PT1H
X-Robots-Tag:noindex
X-PUBLISHED-TTL:PT1H
BEGIN:VTIMEZONE
TZID:America/Indiana/Indianapolis
BEGIN:DAYLIGHT
TZOFFSETFROM:-0500
TZOFFSETTO:-0400
TZNAME:EDT
DTSTART:20140309T070000
END:DAYLIGHT
BEGIN:STANDARD
TZOFFSETFROM:-0400
TZOFFSETTO:-0500
TZNAME:EST
DTSTART:20141102T060000
END:STANDARD
BEGIN:DAYLIGHT
TZOFFSETFROM:-0500
TZOFFSETTO:-0400
TZNAME:EDT
DTSTART:20150308T070000
END:DAYLIGHT
BEGIN:STANDARD
TZOFFSETFROM:-0400
TZOFFSETTO:-0500
TZNAME:EST
DTSTART:20151101T060000
END:STANDARD
BEGIN:DAYLIGHT
TZOFFSETFROM:-0500
TZOFFSETTO:-0400
TZNAME:EDT
DTSTART:20160313T070000
END:DAYLIGHT
BEGIN:STANDARD
TZOFFSETFROM:-0400
TZOFFSETTO:-0500
TZNAME:EST
DTSTART:20161106T060000
END:STANDARD
BEGIN:DAYLIGHT
TZOFFSETFROM:-0500
TZOFFSETTO:-0400
TZNAME:EDT
DTSTART:20170312T070000
END:DAYLIGHT
BEGIN:STANDARD
TZOFFSETFROM:-0400
TZOFFSETTO:-0500
TZNAME:EST
DTSTART:20171105T060000
END:STANDARD
BEGIN:DAYLIGHT
TZOFFSETFROM:-0500
TZOFFSETTO:-0400
TZNAME:EDT
DTSTART:20180311T070000
END:DAYLIGHT
BEGIN:STANDARD
TZOFFSETFROM:-0400
TZOFFSETTO:-0500
TZNAME:EST
DTSTART:20181104T060000
END:STANDARD
BEGIN:DAYLIGHT
TZOFFSETFROM:-0500
TZOFFSETTO:-0400
TZNAME:EDT
DTSTART:20190310T070000
END:DAYLIGHT
BEGIN:STANDARD
TZOFFSETFROM:-0400
TZOFFSETTO:-0500
TZNAME:EST
DTSTART:20191103T060000
END:STANDARD
BEGIN:DAYLIGHT
TZOFFSETFROM:-0500
TZOFFSETTO:-0400
TZNAME:EDT
DTSTART:20200308T070000
END:DAYLIGHT
BEGIN:STANDARD
TZOFFSETFROM:-0400
TZOFFSETTO:-0500
TZNAME:EST
DTSTART:20201101T060000
END:STANDARD
BEGIN:DAYLIGHT
TZOFFSETFROM:-0500
TZOFFSETTO:-0400
TZNAME:EDT
DTSTART:20210314T070000
END:DAYLIGHT
BEGIN:STANDARD
TZOFFSETFROM:-0400
TZOFFSETTO:-0500
TZNAME:EST
DTSTART:20211107T060000
END:STANDARD
BEGIN:DAYLIGHT
TZOFFSETFROM:-0500
TZOFFSETTO:-0400
TZNAME:EDT
DTSTART:20220313T070000
END:DAYLIGHT
BEGIN:STANDARD
TZOFFSETFROM:-0400
TZOFFSETTO:-0500
TZNAME:EST
DTSTART:20221106T060000
END:STANDARD
BEGIN:DAYLIGHT
TZOFFSETFROM:-0500
TZOFFSETTO:-0400
TZNAME:EDT
DTSTART:20230312T070000
END:DAYLIGHT
BEGIN:STANDARD
TZOFFSETFROM:-0400
TZOFFSETTO:-0500
TZNAME:EST
DTSTART:20231105T060000
END:STANDARD
BEGIN:DAYLIGHT
TZOFFSETFROM:-0500
TZOFFSETTO:-0400
TZNAME:EDT
DTSTART:20240310T070000
END:DAYLIGHT
BEGIN:STANDARD
TZOFFSETFROM:-0400
TZOFFSETTO:-0500
TZNAME:EST
DTSTART:20241103T060000
END:STANDARD
BEGIN:DAYLIGHT
TZOFFSETFROM:-0500
TZOFFSETTO:-0400
TZNAME:EDT
DTSTART:20250309T070000
END:DAYLIGHT
BEGIN:STANDARD
TZOFFSETFROM:-0400
TZOFFSETTO:-0500
TZNAME:EST
DTSTART:20251102T060000
END:STANDARD
END:VTIMEZONE
BEGIN:VEVENT
DTSTART;TZID=America/Indiana/Indianapolis:20240727T180000
DTEND;TZID=America/Indiana/Indianapolis:20240727T220000
DTSTAMP:20260424T002421
CREATED:20240722T161423Z
LAST-MODIFIED:20240722T161424Z
UID:63970-1722103200-1722117600@aohindy.com
SUMMARY:St. Matthew Catholic Church
DESCRIPTION:St. Matthew and Christ the King Parish Haiti Committee will be sponsoring B-4 Haiti Bingo night \n\n\n\nStarting at 6pm (right after 5pm Mass\, make it a twofer) in the St. Matthew Gym. Bingo\, beer\, wine\, Bingo\, food\, Bingo\, beer and wine\, raffle drawings\, fun for a good cause are all part of the evening.  Our Irish ancestors have seen great adversity and have benefitted from the generosity of many.  Please help pay this back\, and forward\, by helping the people of Haiti.  St. Matthew and Christ the King are twinned parishes with a parish in Boi de Lance\, Haiti; the parish priest is Pere Max\, and he defines “hero” as a “shepherd to his flock.”  If you’ve followed the news there for the past few years\, you know the words “bleak”\, “dysfunctional” and “dismal” do not fully describe the situation for our brothers and sisters in Haiti.  Due to the pandemic\, and now the violence\, the Indy parishes have not been able to send members to help\, and our support has been in the form of money and prayers. Both are sorely needed.  St. Matthew and Christ the King support schools\, and the students and teachers\, and two churches.  In the past\, volunteers have helped train the Haitians to grow food\, raise chickens\, and sew.  Most of these endeavors have now ended due to the collapse of the Haitian economy.  
URL:https://aohindy.com/event/st-matthew-catholic-church/
LOCATION:St. Matthew Catholic Church\, 4100 E 56th Street\, Indianapolis\, Indiana\, 46256\, United States
CATEGORIES:Irish Events Indianapolis
ATTACH;FMTTYPE=image/jpeg:https://aohindy.com/wp-content/uploads/2024/07/Hati_StMatthew.jpg
END:VEVENT
BEGIN:VEVENT
DTSTART;TZID=America/Indiana/Indianapolis:20240615T090000
DTEND;TZID=America/Indiana/Indianapolis:20240615T180000
DTSTAMP:20260424T002421
CREATED:20240614T161613Z
LAST-MODIFIED:20240614T161614Z
UID:63936-1718442000-1718474400@aohindy.com
SUMMARY:GAA Indy Invitational June 15\, 2024
DESCRIPTION:GAA Indy Invitational June 15\, 2024
URL:https://aohindy.com/event/gaa-indy-invitational-june-15-2024/
LOCATION:Indianapolis World Sports Park\, 1313 S Post Rd\, Indiana\, 46239\, United States
CATEGORIES:Irish Events Indianapolis
ATTACH;FMTTYPE=image/png:https://aohindy.com/wp-content/uploads/2024/06/GAA_Invitionational.png
END:VEVENT
BEGIN:VEVENT
DTSTART;TZID=America/Indiana/Indianapolis:20151220T054500
DTEND;TZID=America/Indiana/Indianapolis:20151220T070000
DTSTAMP:20260424T002421
CREATED:20151021T212824Z
LAST-MODIFIED:20151124T224451Z
UID:335-1450590300-1450594800@aohindy.com
SUMMARY:Annual Hibernian Mass for Deceased Members
DESCRIPTION:May the souls of the faithful departed\, through the mercy of God\, rest in peace.  Amen.\nOur annual AOH Mass for deceased Hibernians is tentatively scheduled for Sunday\, December 20\, 2015 at 10:45 a.m. at St. Philip Neri Church. A coffee and pastries reception will follow.
URL:https://aohindy.com/event/annual-hibernian-mass-for-deceased-members/
LOCATION:Hibernian Hall – St. Philip Neri Catholic Church\, 550 North Rural Street\, Indianapolis\, 46201\, United States
CATEGORIES:Irish Events Indianapolis
ATTACH;FMTTYPE=image/jpeg:https://aohindy.com/wp-content/uploads/2015/10/Memorial-Mass-Hibernians.jpg
END:VEVENT
BEGIN:VEVENT
DTSTART;TZID=America/Indiana/Indianapolis:20151031T150000
DTEND;TZID=America/Indiana/Indianapolis:20151031T160000
DTSTAMP:20260424T002421
CREATED:20151021T211322Z
LAST-MODIFIED:20151021T211412Z
UID:332-1446303600-1446307200@aohindy.com
SUMMARY:Ireland Trip (2016) Meeting
DESCRIPTION:There will be a meeting with John Hegarty\, trip organizer\, at the Golden AceTavern at 7PM on October 31st for all those who have committed or expressed interest in going on the summer 2016 Ireland trip.
URL:https://aohindy.com/event/ireland-trip-meeting-2016-hibernians-aohindy/
LOCATION:Golden Ace Inn\, 2533 E. Washington Street\, Indianapolis\, In. 46201\, Indianapolis\, IN\, 46201\, United States
CATEGORIES:Irish Events Indianapolis
ATTACH;FMTTYPE=image/jpeg:https://aohindy.com/wp-content/uploads/2015/10/Irish-coast.jpg
END:VEVENT
BEGIN:VEVENT
DTSTART;TZID=America/Indiana/Indianapolis:20150813T160000
DTEND;TZID=America/Indiana/Indianapolis:20150813T173000
DTSTAMP:20260424T002421
CREATED:20150724T012153Z
LAST-MODIFIED:20150724T012410Z
UID:234-1439481600-1439487000@aohindy.com
SUMMARY:AOH Meeting - August 13\, 2015 - 8pm
DESCRIPTION:Make sure to join us for the monthly Hibernian meeting on August 13\, 2015 at St. Philip Neri at 8pm.
URL:https://aohindy.com/event/hibernians-aoh-meeting-august-2015/
LOCATION:Hibernian Hall – St. Philip Neri Catholic Church\, 550 North Rural Street\, Indianapolis\, 46201\, United States
CATEGORIES:Irish Events Indianapolis
ATTACH;FMTTYPE=image/jpeg:https://aohindy.com/wp-content/uploads/2015/07/AOH-Division-Flag-800.jpg
END:VEVENT
BEGIN:VEVENT
DTSTART;TZID=America/Indiana/Indianapolis:20150730T160000
DTEND;TZID=America/Indiana/Indianapolis:20150730T190000
DTSTAMP:20260424T002421
CREATED:20150719T010812Z
LAST-MODIFIED:20150719T035540Z
UID:214-1438272000-1438282800@aohindy.com
SUMMARY:Sean McCabe at the Golden Ace Inn\, July 30\, 2015
DESCRIPTION:Sean McCabe\, former lead singer of The McCabes\, songwriter of “Donegal Joe”\, “Have a Guinness Every Day”\, “Paddys Day” and numerous others\, will be performing at the Ace on Thursday July 30th. Sean grew up in Ireland\, moved to to New York as an adult and has been residing in Sweden. \nJuly 30: 8:00 pm – 11:00 pm\nCost: $5.00\nThe Golden Ace\n2533 East Washington Street\, Indianapolis\, 46201\nPhone: (317) 632-0696\n‪#‎aohindy‬ ‪#‎indycatholic‬
URL:https://aohindy.com/event/sean-mccabe-at-the-golden-ace-july-30-2015-aohindy-hibernians/
LOCATION:Golden Ace Inn\, 2533 E. Washington Street\, Indianapolis\, In. 46201\, Indianapolis\, IN\, 46201\, United States
CATEGORIES:Irish Events Indianapolis
ATTACH;FMTTYPE=image/jpeg:https://aohindy.com/wp-content/uploads/2015/07/11667484_700031706769072_4753962761916289137_n.jpg
END:VEVENT
END:VCALENDAR