BEGIN:VCALENDAR
VERSION:2.0
PRODID:-//Ancient Order of Hibernians - ECPv6.15.20//NONSGML v1.0//EN
CALSCALE:GREGORIAN
METHOD:PUBLISH
X-WR-CALNAME:Ancient Order of Hibernians
X-ORIGINAL-URL:https://aohindy.com
X-WR-CALDESC:Events for Ancient Order of Hibernians
REFRESH-INTERVAL;VALUE=DURATION:PT1H
X-Robots-Tag:noindex
X-PUBLISHED-TTL:PT1H
BEGIN:VTIMEZONE
TZID:America/Indiana/Indianapolis
BEGIN:DAYLIGHT
TZOFFSETFROM:-0500
TZOFFSETTO:-0400
TZNAME:EDT
DTSTART:20200308T070000
END:DAYLIGHT
BEGIN:STANDARD
TZOFFSETFROM:-0400
TZOFFSETTO:-0500
TZNAME:EST
DTSTART:20201101T060000
END:STANDARD
BEGIN:DAYLIGHT
TZOFFSETFROM:-0500
TZOFFSETTO:-0400
TZNAME:EDT
DTSTART:20210314T070000
END:DAYLIGHT
BEGIN:STANDARD
TZOFFSETFROM:-0400
TZOFFSETTO:-0500
TZNAME:EST
DTSTART:20211107T060000
END:STANDARD
BEGIN:DAYLIGHT
TZOFFSETFROM:-0500
TZOFFSETTO:-0400
TZNAME:EDT
DTSTART:20220313T070000
END:DAYLIGHT
BEGIN:STANDARD
TZOFFSETFROM:-0400
TZOFFSETTO:-0500
TZNAME:EST
DTSTART:20221106T060000
END:STANDARD
END:VTIMEZONE
BEGIN:VEVENT
DTSTART;TZID=America/Indiana/Indianapolis:20211128T093000
DTEND;TZID=America/Indiana/Indianapolis:20211128T103000
DTSTAMP:20260424T015412
CREATED:20211104T121422Z
LAST-MODIFIED:20211104T122720Z
UID:63030-1638091800-1638095400@aohindy.com
SUMMARY:Memorial Mass
DESCRIPTION:All members\, families\, and friends of the Kevin Barry Division are invited to attend our annual Memorial Mass at St. Philip Neri Catholic Church. This Mass remembers and celebrates the lives of our deceased brethren of Kevin Barry Division 3.
URL:https://aohindy.com/event/memorial-mass/
LOCATION:St. Philip Neri Catholic Church\, 550 N Rural St\, Indianapolis\, Indiana\, 46201\, United States
CATEGORIES:Hibernian Mass
ATTACH;FMTTYPE=image/png:https://aohindy.com/wp-content/uploads/2021/11/Memorial-Mass-01.png
END:VEVENT
BEGIN:VEVENT
DTSTART;TZID=America/Indiana/Indianapolis:20210314T103000
DTEND;TZID=America/Indiana/Indianapolis:20210314T113000
DTSTAMP:20260424T015413
CREATED:20210213T144013Z
LAST-MODIFIED:20210312T123827Z
UID:62622-1615717800-1615721400@aohindy.com
SUMMARY:2021 Hibernian Mass
DESCRIPTION:All members\, families\, and friends of the Kevin Barry Division are invited to attend our annual Memorial Mass at St. Philip Neri Catholic Church. This Mass remembers and celebrates the lives of our deceased brethren of Kevin Barry Division 3.
URL:https://aohindy.com/event/2021-hibernian-mass/
LOCATION:St. John the Evangelist Catholic Church\, 126 W Georgia Street\, Indianapolis\, IN\, 46225\, United States
CATEGORIES:Hibernian Mass
ATTACH;FMTTYPE=image/jpeg:https://aohindy.com/wp-content/uploads/2018/02/043_editedAOHSt.PatricksCelebration2016-e1519425461107.jpg
END:VEVENT
END:VCALENDAR