BEGIN:VCALENDAR
VERSION:2.0
PRODID:-//Ancient Order of Hibernians - ECPv6.15.20//NONSGML v1.0//EN
CALSCALE:GREGORIAN
METHOD:PUBLISH
X-WR-CALNAME:Ancient Order of Hibernians
X-ORIGINAL-URL:https://aohindy.com
X-WR-CALDESC:Events for Ancient Order of Hibernians
REFRESH-INTERVAL;VALUE=DURATION:PT1H
X-Robots-Tag:noindex
X-PUBLISHED-TTL:PT1H
BEGIN:VTIMEZONE
TZID:America/Indiana/Indianapolis
BEGIN:DAYLIGHT
TZOFFSETFROM:-0500
TZOFFSETTO:-0400
TZNAME:EDT
DTSTART:20230312T070000
END:DAYLIGHT
BEGIN:STANDARD
TZOFFSETFROM:-0400
TZOFFSETTO:-0500
TZNAME:EST
DTSTART:20231105T060000
END:STANDARD
BEGIN:DAYLIGHT
TZOFFSETFROM:-0500
TZOFFSETTO:-0400
TZNAME:EDT
DTSTART:20240310T070000
END:DAYLIGHT
BEGIN:STANDARD
TZOFFSETFROM:-0400
TZOFFSETTO:-0500
TZNAME:EST
DTSTART:20241103T060000
END:STANDARD
BEGIN:DAYLIGHT
TZOFFSETFROM:-0500
TZOFFSETTO:-0400
TZNAME:EDT
DTSTART:20250309T070000
END:DAYLIGHT
BEGIN:STANDARD
TZOFFSETFROM:-0400
TZOFFSETTO:-0500
TZNAME:EST
DTSTART:20251102T060000
END:STANDARD
END:VTIMEZONE
BEGIN:VEVENT
DTSTART;TZID=America/Indiana/Indianapolis:20240928T070000
DTEND;TZID=America/Indiana/Indianapolis:20240928T140000
DTSTAMP:20260425T123254
CREATED:20240813T165324Z
LAST-MODIFIED:20240813T165325Z
UID:63992-1727506800-1727532000@aohindy.com
SUMMARY:AOH Golf Scramble 2024
DESCRIPTION:The AOH annual Golf Scramble is scheduled for Saturday September 28th.  \n\n\n\nCheck in at 7:00 AM\, Shotgun start at 8:00AM. \n\n\n\nThis event is a great way to reconnect with fellow Hibernians and with friends of the Hibernians. \n\n\n\nThe AOH 2024 Golf Scramble will be held at Sarah Shank Golf Course \n\n\n\nLocated at 2607 S. Keystone Avenue. Indianapolis In 46203 \n\n\n\nSecure your team now. $65 per player or $260 per Team. There are only 72 spots available so secure yours now. \n\n\n\nContact TOBY7205@gmail.com for more information and/or to reserve your spot.
URL:https://aohindy.com/event/aoh-golf-scramble-2024/
LOCATION:Sarah Shank\, 2607 S. Keystone Avenue\, Indianapolis\, Indiana\, 46203\, United States
CATEGORIES:Golf Outing
ATTACH;FMTTYPE=image/png:https://aohindy.com/wp-content/uploads/2024/08/Green-Golf-Ball-Golf-Tournament-Flyer.png
END:VEVENT
END:VCALENDAR