BEGIN:VCALENDAR
VERSION:2.0
PRODID:-//Ancient Order of Hibernians - ECPv6.15.20//NONSGML v1.0//EN
CALSCALE:GREGORIAN
METHOD:PUBLISH
X-ORIGINAL-URL:https://aohindy.com
X-WR-CALDESC:Events for Ancient Order of Hibernians
REFRESH-INTERVAL;VALUE=DURATION:PT1H
X-Robots-Tag:noindex
X-PUBLISHED-TTL:PT1H
BEGIN:VTIMEZONE
TZID:America/Indiana/Indianapolis
BEGIN:DAYLIGHT
TZOFFSETFROM:-0500
TZOFFSETTO:-0400
TZNAME:EDT
DTSTART:20230312T070000
END:DAYLIGHT
BEGIN:STANDARD
TZOFFSETFROM:-0400
TZOFFSETTO:-0500
TZNAME:EST
DTSTART:20231105T060000
END:STANDARD
BEGIN:DAYLIGHT
TZOFFSETFROM:-0500
TZOFFSETTO:-0400
TZNAME:EDT
DTSTART:20240310T070000
END:DAYLIGHT
BEGIN:STANDARD
TZOFFSETFROM:-0400
TZOFFSETTO:-0500
TZNAME:EST
DTSTART:20241103T060000
END:STANDARD
BEGIN:DAYLIGHT
TZOFFSETFROM:-0500
TZOFFSETTO:-0400
TZNAME:EDT
DTSTART:20250309T070000
END:DAYLIGHT
BEGIN:STANDARD
TZOFFSETFROM:-0400
TZOFFSETTO:-0500
TZNAME:EST
DTSTART:20251102T060000
END:STANDARD
END:VTIMEZONE
BEGIN:VEVENT
DTSTART;TZID=America/Indiana/Indianapolis:20240920T160000
DTEND;TZID=America/Indiana/Indianapolis:20240920T230000
DTSTAMP:20260425T071345
CREATED:20240916T130703Z
LAST-MODIFIED:20240916T131100Z
UID:64054-1726848000-1726873200@aohindy.com
SUMMARY:Circle City Irish Fest - Friday
DESCRIPTION:Circle City Irish Fest\n\n\n\n\n\n\n\n\n\nSeptember 20th from 4pm to 11pm and 21st from Noon to 11pm @ Holy Rosary Catholic Church.
URL:https://aohindy.com/event/circle-city-irish-fest/
LOCATION:Holy Rosary Catholic Church\, 520 Stevens Street\, Indianapolis\, Indiana\, 46203\, United States
CATEGORIES:Indy Irish Fest
ATTACH;FMTTYPE=image/png:https://aohindy.com/wp-content/uploads/2024/03/CCIF-Logo-with-Text-Transparent-120x120-1.png
END:VEVENT
END:VCALENDAR