BEGIN:VCALENDAR
VERSION:2.0
PRODID:-//Ancient Order of Hibernians - ECPv6.15.20//NONSGML v1.0//EN
CALSCALE:GREGORIAN
METHOD:PUBLISH
X-WR-CALNAME:Ancient Order of Hibernians
X-ORIGINAL-URL:https://aohindy.com
X-WR-CALDESC:Events for Ancient Order of Hibernians
REFRESH-INTERVAL;VALUE=DURATION:PT1H
X-Robots-Tag:noindex
X-PUBLISHED-TTL:PT1H
BEGIN:VTIMEZONE
TZID:America/Indiana/Indianapolis
BEGIN:DAYLIGHT
TZOFFSETFROM:-0500
TZOFFSETTO:-0400
TZNAME:EDT
DTSTART:20230312T070000
END:DAYLIGHT
BEGIN:STANDARD
TZOFFSETFROM:-0400
TZOFFSETTO:-0500
TZNAME:EST
DTSTART:20231105T060000
END:STANDARD
BEGIN:DAYLIGHT
TZOFFSETFROM:-0500
TZOFFSETTO:-0400
TZNAME:EDT
DTSTART:20240310T070000
END:DAYLIGHT
BEGIN:STANDARD
TZOFFSETFROM:-0400
TZOFFSETTO:-0500
TZNAME:EST
DTSTART:20241103T060000
END:STANDARD
BEGIN:DAYLIGHT
TZOFFSETFROM:-0500
TZOFFSETTO:-0400
TZNAME:EDT
DTSTART:20250309T070000
END:DAYLIGHT
BEGIN:STANDARD
TZOFFSETFROM:-0400
TZOFFSETTO:-0500
TZNAME:EST
DTSTART:20251102T060000
END:STANDARD
END:VTIMEZONE
BEGIN:VEVENT
DTSTART;TZID=America/Indiana/Indianapolis:20240912T200000
DTEND;TZID=America/Indiana/Indianapolis:20240912T220000
DTSTAMP:20260425T071402
CREATED:20240107T231917Z
LAST-MODIFIED:20240308T030944Z
UID:63630-1726171200-1726178400@aohindy.com
SUMMARY:Hibernian Monthly Meeting – September 2024
DESCRIPTION:
URL:https://aohindy.com/event/hibernian-monthly-meeting-september-2024/
LOCATION:Golden Ace Inn\, 2533 E. Washington Street\, Indianapolis\, In. 46201\, Indianapolis\, IN\, 46201\, United States
CATEGORIES:AOH Monthly Meeting
ATTACH;FMTTYPE=image/png:https://aohindy.com/wp-content/uploads/2020/07/Division-Meeting-01.png
ORGANIZER;CN="Kevin Barry Division":MAILTO:aohindy@gmail.com
END:VEVENT
END:VCALENDAR