BEGIN:VCALENDAR
VERSION:2.0
PRODID:-//Ancient Order of Hibernians - ECPv6.15.20//NONSGML v1.0//EN
CALSCALE:GREGORIAN
METHOD:PUBLISH
X-ORIGINAL-URL:https://aohindy.com
X-WR-CALDESC:Events for Ancient Order of Hibernians
REFRESH-INTERVAL;VALUE=DURATION:PT1H
X-Robots-Tag:noindex
X-PUBLISHED-TTL:PT1H
BEGIN:VTIMEZONE
TZID:America/Indiana/Indianapolis
BEGIN:DAYLIGHT
TZOFFSETFROM:-0500
TZOFFSETTO:-0400
TZNAME:EDT
DTSTART:20230312T070000
END:DAYLIGHT
BEGIN:STANDARD
TZOFFSETFROM:-0400
TZOFFSETTO:-0500
TZNAME:EST
DTSTART:20231105T060000
END:STANDARD
BEGIN:DAYLIGHT
TZOFFSETFROM:-0500
TZOFFSETTO:-0400
TZNAME:EDT
DTSTART:20240310T070000
END:DAYLIGHT
BEGIN:STANDARD
TZOFFSETFROM:-0400
TZOFFSETTO:-0500
TZNAME:EST
DTSTART:20241103T060000
END:STANDARD
BEGIN:DAYLIGHT
TZOFFSETFROM:-0500
TZOFFSETTO:-0400
TZNAME:EDT
DTSTART:20250309T070000
END:DAYLIGHT
BEGIN:STANDARD
TZOFFSETFROM:-0400
TZOFFSETTO:-0500
TZNAME:EST
DTSTART:20251102T060000
END:STANDARD
END:VTIMEZONE
BEGIN:VEVENT
DTSTART;TZID=America/Indiana/Indianapolis:20240830T180000
DTEND;TZID=America/Indiana/Indianapolis:20240830T220000
DTSTAMP:20260425T071356
CREATED:20240823T202558Z
LAST-MODIFIED:20240823T202559Z
UID:64038-1725040800-1725055200@aohindy.com
SUMMARY:Circle City Irish Fest and AOH
DESCRIPTION:Welcome to Circle City Irish Fest and AOH Night at Victory Field! \n\n\n\n \n\n\n\nPromotion: Irish Community Night \n\n\n\nThe Indians welcome the Indianapolis Irish Community to Victory Field. Experience authentic Irish music\, dancing\, in-game entertainment and a hurling demonstration. Click “More Info” to buy tickets to the Circle City Irish Festival on September 20-21. | In Partnership with Circle City Irish Festival | More Info \n\n\n\nhttps://fevo-enterprise.com/event/Circlecity2 \n\n\n\n \n\n\n\nPromotion: Friday Fireworks \n\n\n\nBaseball and boom! Bring the family and have a blast with postgame fireworks. Gates open at 6 PM. | Presented By AAA Insurance\, FOX59 | More Info
URL:https://aohindy.com/event/circle-city-irish-fest-and-aoh/
ATTACH;FMTTYPE=image/png:https://aohindy.com/wp-content/uploads/2024/08/IrishCommunityNight.png
END:VEVENT
END:VCALENDAR