BEGIN:VCALENDAR
VERSION:2.0
PRODID:-//Ancient Order of Hibernians - ECPv6.15.20//NONSGML v1.0//EN
CALSCALE:GREGORIAN
METHOD:PUBLISH
X-ORIGINAL-URL:https://aohindy.com
X-WR-CALDESC:Events for Ancient Order of Hibernians
REFRESH-INTERVAL;VALUE=DURATION:PT1H
X-Robots-Tag:noindex
X-PUBLISHED-TTL:PT1H
BEGIN:VTIMEZONE
TZID:America/Indiana/Indianapolis
BEGIN:DAYLIGHT
TZOFFSETFROM:-0500
TZOFFSETTO:-0400
TZNAME:EDT
DTSTART:20230312T070000
END:DAYLIGHT
BEGIN:STANDARD
TZOFFSETFROM:-0400
TZOFFSETTO:-0500
TZNAME:EST
DTSTART:20231105T060000
END:STANDARD
BEGIN:DAYLIGHT
TZOFFSETFROM:-0500
TZOFFSETTO:-0400
TZNAME:EDT
DTSTART:20240310T070000
END:DAYLIGHT
BEGIN:STANDARD
TZOFFSETFROM:-0400
TZOFFSETTO:-0500
TZNAME:EST
DTSTART:20241103T060000
END:STANDARD
BEGIN:DAYLIGHT
TZOFFSETFROM:-0500
TZOFFSETTO:-0400
TZNAME:EDT
DTSTART:20250309T070000
END:DAYLIGHT
BEGIN:STANDARD
TZOFFSETFROM:-0400
TZOFFSETTO:-0500
TZNAME:EST
DTSTART:20251102T060000
END:STANDARD
END:VTIMEZONE
BEGIN:VEVENT
DTSTART;TZID=America/Indiana/Indianapolis:20240509T150000
DTEND;TZID=America/Indiana/Indianapolis:20240509T190000
DTSTAMP:20260425T160244
CREATED:20240509T135315Z
LAST-MODIFIED:20240509T135316Z
UID:63900-1715266800-1715281200@aohindy.com
SUMMARY:Visitation For John Joseph (J.J.) O'Brien
DESCRIPTION:Showing will be at Our Lady of Lourdes Catholic Church\, 5333 East Washington St. Indianapolis\, IN\, 46219 on May 9th from 3:00pm-7:00pm and 11:00am to noon on May 10th.
URL:https://aohindy.com/event/visitation-for-john-joseph-j-j-obrien/
LOCATION:Our Lady Of Lourdes Catholic Church\, 5333 E Washington St\, Indianapolis\, Indiana\, 46219\, United States
ATTACH;FMTTYPE=image/jpeg:https://aohindy.com/wp-content/uploads/2024/05/JJOBrien.jpg
END:VEVENT
BEGIN:VEVENT
DTSTART;TZID=America/Indiana/Indianapolis:20240509T200000
DTEND;TZID=America/Indiana/Indianapolis:20240509T220000
DTSTAMP:20260425T160244
CREATED:20240107T231429Z
LAST-MODIFIED:20240308T031142Z
UID:63621-1715284800-1715292000@aohindy.com
SUMMARY:Hibernian Monthly Meeting – May 2024
DESCRIPTION:
URL:https://aohindy.com/event/hibernian-monthly-meeting-may-2024/
LOCATION:Hibernian Hall – St. Philip Neri Catholic Church\, 550 North Rural Street\, Indianapolis\, 46201\, United States
CATEGORIES:AOH Monthly Meeting
ATTACH;FMTTYPE=image/png:https://aohindy.com/wp-content/uploads/2020/07/Division-Meeting-01.png
ORGANIZER;CN="Kevin Barry Division":MAILTO:aohindy@gmail.com
END:VEVENT
END:VCALENDAR